BEGIN:VCALENDAR
VERSION:2.0
PRODID:-//Louder Plugins Development - ECPv6.15.15//NONSGML v1.0//EN
CALSCALE:GREGORIAN
METHOD:PUBLISH
X-ORIGINAL-URL:https://plugins.louderstaging.com
X-WR-CALDESC:Events for Louder Plugins Development
REFRESH-INTERVAL;VALUE=DURATION:PT1H
X-Robots-Tag:noindex
X-PUBLISHED-TTL:PT1H
BEGIN:VTIMEZONE
TZID:America/Kentucky/Louisville
BEGIN:DAYLIGHT
TZOFFSETFROM:-0500
TZOFFSETTO:-0400
TZNAME:EDT
DTSTART:20250309T070000
END:DAYLIGHT
BEGIN:STANDARD
TZOFFSETFROM:-0400
TZOFFSETTO:-0500
TZNAME:EST
DTSTART:20251102T060000
END:STANDARD
BEGIN:DAYLIGHT
TZOFFSETFROM:-0500
TZOFFSETTO:-0400
TZNAME:EDT
DTSTART:20260308T070000
END:DAYLIGHT
BEGIN:STANDARD
TZOFFSETFROM:-0400
TZOFFSETTO:-0500
TZNAME:EST
DTSTART:20261101T060000
END:STANDARD
BEGIN:DAYLIGHT
TZOFFSETFROM:-0500
TZOFFSETTO:-0400
TZNAME:EDT
DTSTART:20270314T070000
END:DAYLIGHT
BEGIN:STANDARD
TZOFFSETFROM:-0400
TZOFFSETTO:-0500
TZNAME:EST
DTSTART:20271107T060000
END:STANDARD
END:VTIMEZONE
BEGIN:VEVENT
DTSTART;TZID=America/Kentucky/Louisville:20260504T080000
DTEND;TZID=America/Kentucky/Louisville:20260504T170000
DTSTAMP:20260420T104433
CREATED:20251129T152745Z
LAST-MODIFIED:20251129T152745Z
UID:10000003-1777881600-1777914000@plugins.louderstaging.com
SUMMARY:Web Performance Bootcamp
DESCRIPTION:A full-day technical workshop focused on modern techniques for speeding up websites at scale. Topics include Core Web Vitals tuning\, edge caching strategies\, CSS/JS optimization\, image automation workflows\, and how to use RUM (real-user monitoring) data to uncover hidden slowdowns. \nDevelopers and technical SEOs will work through real-world performance audits and learn how to implement fixes that have measurable impact. The afternoon closes with an interactive “90-Minute Speed-Up Challenge” where small groups compete to optimize a sample site.
URL:https://plugins.louderstaging.com/events/web-performance-bootcamp/
LOCATION:Seattle Public Library – Central Library\, 1000 4th Ave\, Seattle\, WA\, 98104\, United States
CATEGORIES:Bootcamp
ATTACH;FMTTYPE=image/jpeg:https://plugins.louderstaging.com/wp-content/uploads/2024/07/xkkcui44im0.jpg
ORGANIZER;CN="Northwest Web Collective":MAILTO:hello@nwwebcollective.org
END:VEVENT
END:VCALENDAR