BEGIN:VCALENDAR
VERSION:2.0
PRODID:-//Louder Plugins Development - ECPv6.15.15//NONSGML v1.0//EN
CALSCALE:GREGORIAN
METHOD:PUBLISH
X-ORIGINAL-URL:https://plugins.louderstaging.com
X-WR-CALDESC:Events for Louder Plugins Development
REFRESH-INTERVAL;VALUE=DURATION:PT1H
X-Robots-Tag:noindex
X-PUBLISHED-TTL:PT1H
BEGIN:VTIMEZONE
TZID:America/Kentucky/Louisville
BEGIN:DAYLIGHT
TZOFFSETFROM:-0500
TZOFFSETTO:-0400
TZNAME:EDT
DTSTART:20290311T070000
END:DAYLIGHT
BEGIN:STANDARD
TZOFFSETFROM:-0400
TZOFFSETTO:-0500
TZNAME:EST
DTSTART:20291104T060000
END:STANDARD
BEGIN:DAYLIGHT
TZOFFSETFROM:-0500
TZOFFSETTO:-0400
TZNAME:EDT
DTSTART:20300310T070000
END:DAYLIGHT
BEGIN:STANDARD
TZOFFSETFROM:-0400
TZOFFSETTO:-0500
TZNAME:EST
DTSTART:20301103T060000
END:STANDARD
BEGIN:DAYLIGHT
TZOFFSETFROM:-0500
TZOFFSETTO:-0400
TZNAME:EDT
DTSTART:20310309T070000
END:DAYLIGHT
BEGIN:STANDARD
TZOFFSETFROM:-0400
TZOFFSETTO:-0500
TZNAME:EST
DTSTART:20311102T060000
END:STANDARD
END:VTIMEZONE
BEGIN:VEVENT
DTSTART;VALUE=DATE:20300821
DTEND;VALUE=DATE:20300823
DTSTAMP:20260420T203220
CREATED:20251129T153010Z
LAST-MODIFIED:20251129T154555Z
UID:10000102-1913500800-1913673599@plugins.louderstaging.com
SUMMARY:AI-Powered Content Marketing Workshop
DESCRIPTION:This two-day workshop explores how AI-driven tools can enhance content planning\, production\, and measurement without sacrificing authenticity. Participants will learn how to build topic maps\, create data-supported briefs\, analyze user intent clusters\, and structure content libraries that scale efficiently. \nThe workshop includes small group exercises\, prompt-engineering guidance for content creators\, and practical frameworks for mixing human editing with AI output to maintain a consistent brand tone. A special closing session walks through building an internal AI policy for your organization.
URL:https://plugins.louderstaging.com/events/ai-powered-content-marketing-workshop/2030-08-21/
LOCATION:McCormick Place\, 2301 S King Dr\, Chicago\, IL\, 60616\, United States
CATEGORIES:Workshop
ATTACH;FMTTYPE=image/jpeg:https://plugins.louderstaging.com/wp-content/uploads/2017/10/yc-yzbqy7py.jpg
ORGANIZER;CN="CreativeOps Training Group":MAILTO:training@creativeops.co
END:VEVENT
BEGIN:VEVENT
DTSTART;TZID=America/Kentucky/Louisville:20300906T080000
DTEND;TZID=America/Kentucky/Louisville:20300906T170000
DTSTAMP:20260420T203220
CREATED:20251129T153605Z
LAST-MODIFIED:20251129T154509Z
UID:10000052-1914912000-1914944400@plugins.louderstaging.com
SUMMARY:Conversion Optimization Masterclass
DESCRIPTION:A targeted one-day intensive designed for marketers looking to improve conversion rates on landing pages\, e-commerce sites\, and lead funnels. This masterclass takes a structured approach to experimentation\, walking attendees through test prioritization\, behavioral analytics\, and heatmap analysis. \nYou’ll examine real A/B test case studies\, redesign under-performing pages in guided breakout sessions\, and learn how to interpret CRO data beyond the basics. No coding knowledge is required\, making this workshop ideal for marketing teams\, content strategists\, and designers alike.
URL:https://plugins.louderstaging.com/events/conversion-optimization-masterclass/2030-09-06/
LOCATION:Boston Public Library – Central Library (Copley Square)\, 700 Boylston St\, Boston\, MA\, 02116\, United States
CATEGORIES:Masterclass
ATTACH;FMTTYPE=image/jpeg:https://plugins.louderstaging.com/wp-content/uploads/2017/10/yxemfqipr_e.jpg
ORGANIZER;CN="Optimize Better LLC":MAILTO:support@optimizebetter.io
END:VEVENT
BEGIN:VEVENT
DTSTART;VALUE=DATE:20300918
DTEND;VALUE=DATE:20300920
DTSTAMP:20260420T203220
CREATED:20251129T153010Z
LAST-MODIFIED:20251129T154555Z
UID:10000103-1915920000-1916092799@plugins.louderstaging.com
SUMMARY:AI-Powered Content Marketing Workshop
DESCRIPTION:This two-day workshop explores how AI-driven tools can enhance content planning\, production\, and measurement without sacrificing authenticity. Participants will learn how to build topic maps\, create data-supported briefs\, analyze user intent clusters\, and structure content libraries that scale efficiently. \nThe workshop includes small group exercises\, prompt-engineering guidance for content creators\, and practical frameworks for mixing human editing with AI output to maintain a consistent brand tone. A special closing session walks through building an internal AI policy for your organization.
URL:https://plugins.louderstaging.com/events/ai-powered-content-marketing-workshop/2030-09-18/
LOCATION:McCormick Place\, 2301 S King Dr\, Chicago\, IL\, 60616\, United States
CATEGORIES:Workshop
ATTACH;FMTTYPE=image/jpeg:https://plugins.louderstaging.com/wp-content/uploads/2017/10/yc-yzbqy7py.jpg
ORGANIZER;CN="CreativeOps Training Group":MAILTO:training@creativeops.co
END:VEVENT
BEGIN:VEVENT
DTSTART;TZID=America/Kentucky/Louisville:20301004T080000
DTEND;TZID=America/Kentucky/Louisville:20301004T170000
DTSTAMP:20260420T203220
CREATED:20251129T153605Z
LAST-MODIFIED:20251129T154509Z
UID:10000053-1917331200-1917363600@plugins.louderstaging.com
SUMMARY:Conversion Optimization Masterclass
DESCRIPTION:A targeted one-day intensive designed for marketers looking to improve conversion rates on landing pages\, e-commerce sites\, and lead funnels. This masterclass takes a structured approach to experimentation\, walking attendees through test prioritization\, behavioral analytics\, and heatmap analysis. \nYou’ll examine real A/B test case studies\, redesign under-performing pages in guided breakout sessions\, and learn how to interpret CRO data beyond the basics. No coding knowledge is required\, making this workshop ideal for marketing teams\, content strategists\, and designers alike.
URL:https://plugins.louderstaging.com/events/conversion-optimization-masterclass/2030-10-04/
LOCATION:Boston Public Library – Central Library (Copley Square)\, 700 Boylston St\, Boston\, MA\, 02116\, United States
CATEGORIES:Masterclass
ATTACH;FMTTYPE=image/jpeg:https://plugins.louderstaging.com/wp-content/uploads/2017/10/yxemfqipr_e.jpg
ORGANIZER;CN="Optimize Better LLC":MAILTO:support@optimizebetter.io
END:VEVENT
BEGIN:VEVENT
DTSTART;VALUE=DATE:20301016
DTEND;VALUE=DATE:20301018
DTSTAMP:20260420T203220
CREATED:20251129T153010Z
LAST-MODIFIED:20251129T154555Z
UID:10000104-1918339200-1918511999@plugins.louderstaging.com
SUMMARY:AI-Powered Content Marketing Workshop
DESCRIPTION:This two-day workshop explores how AI-driven tools can enhance content planning\, production\, and measurement without sacrificing authenticity. Participants will learn how to build topic maps\, create data-supported briefs\, analyze user intent clusters\, and structure content libraries that scale efficiently. \nThe workshop includes small group exercises\, prompt-engineering guidance for content creators\, and practical frameworks for mixing human editing with AI output to maintain a consistent brand tone. A special closing session walks through building an internal AI policy for your organization.
URL:https://plugins.louderstaging.com/events/ai-powered-content-marketing-workshop/2030-10-16/
LOCATION:McCormick Place\, 2301 S King Dr\, Chicago\, IL\, 60616\, United States
CATEGORIES:Workshop
ATTACH;FMTTYPE=image/jpeg:https://plugins.louderstaging.com/wp-content/uploads/2017/10/yc-yzbqy7py.jpg
ORGANIZER;CN="CreativeOps Training Group":MAILTO:training@creativeops.co
END:VEVENT
BEGIN:VEVENT
DTSTART;TZID=America/Kentucky/Louisville:20301101T080000
DTEND;TZID=America/Kentucky/Louisville:20301101T170000
DTSTAMP:20260420T203220
CREATED:20251129T153605Z
LAST-MODIFIED:20251129T154509Z
UID:10000054-1919750400-1919782800@plugins.louderstaging.com
SUMMARY:Conversion Optimization Masterclass
DESCRIPTION:A targeted one-day intensive designed for marketers looking to improve conversion rates on landing pages\, e-commerce sites\, and lead funnels. This masterclass takes a structured approach to experimentation\, walking attendees through test prioritization\, behavioral analytics\, and heatmap analysis. \nYou’ll examine real A/B test case studies\, redesign under-performing pages in guided breakout sessions\, and learn how to interpret CRO data beyond the basics. No coding knowledge is required\, making this workshop ideal for marketing teams\, content strategists\, and designers alike.
URL:https://plugins.louderstaging.com/events/conversion-optimization-masterclass/2030-11-01/
LOCATION:Boston Public Library – Central Library (Copley Square)\, 700 Boylston St\, Boston\, MA\, 02116\, United States
CATEGORIES:Masterclass
ATTACH;FMTTYPE=image/jpeg:https://plugins.louderstaging.com/wp-content/uploads/2017/10/yxemfqipr_e.jpg
ORGANIZER;CN="Optimize Better LLC":MAILTO:support@optimizebetter.io
END:VEVENT
BEGIN:VEVENT
DTSTART;VALUE=DATE:20301120
DTEND;VALUE=DATE:20301122
DTSTAMP:20260420T203220
CREATED:20251129T153010Z
LAST-MODIFIED:20251129T154555Z
UID:10000105-1921363200-1921535999@plugins.louderstaging.com
SUMMARY:AI-Powered Content Marketing Workshop
DESCRIPTION:This two-day workshop explores how AI-driven tools can enhance content planning\, production\, and measurement without sacrificing authenticity. Participants will learn how to build topic maps\, create data-supported briefs\, analyze user intent clusters\, and structure content libraries that scale efficiently. \nThe workshop includes small group exercises\, prompt-engineering guidance for content creators\, and practical frameworks for mixing human editing with AI output to maintain a consistent brand tone. A special closing session walks through building an internal AI policy for your organization.
URL:https://plugins.louderstaging.com/events/ai-powered-content-marketing-workshop/2030-11-20/
LOCATION:McCormick Place\, 2301 S King Dr\, Chicago\, IL\, 60616\, United States
CATEGORIES:Workshop
ATTACH;FMTTYPE=image/jpeg:https://plugins.louderstaging.com/wp-content/uploads/2017/10/yc-yzbqy7py.jpg
ORGANIZER;CN="CreativeOps Training Group":MAILTO:training@creativeops.co
END:VEVENT
END:VCALENDAR